Workbook
Name _Feriados: [1]Feriados!$A$2:$A$831

Sheet Cálculo
E1: Data | G1: Saldo devedor | H1: DU | I1: DUP | J1: Taxa de Juros | K1: Fator Juros | L1: Juros | M1: Evento juros | N1: Evento amortização | O1: PU
E2: 44932 | G2: 1000 | O2: 1000
E3: 44935 | G3: 1000 | H3: 252 | I3: 1 | J3: 8.5 | K3: 1.0003238 | L3: 0.323783 | M3: 0 | N3: 0 | O3: 1000.3238
E4: 44936 | G4: 1000 | H4: 252 | I4: 2 | J4: 8.5 | K4: 1.0006477 | L4: 0.64766999 | M4: 0 | N4: 0 | O4: 1000.6477
E5: 44937 | G5: 1000 | H5: 252 | I5: 3 | J5: 8.5 | K5: 1.0009717 | L5: 0.97166199 | M5: 0 | N5: 0 | O5: 1000.9717
E6: 44938 | G6: 1000 | H6: 252 | I6: 4 | J6: 8.5 | K6: 1.0012958 | L6: 1.295759 | M6: 0 | N6: 0 | O6: 1001.2958
E7: 44939 | G7: 1000 | H7: 252 | I7: 5 | J7: 8.5 | K7: 1.00162 | L7: 1.619961 | M7: 0 | N7: 0 | O7: 1001.62
E8: 44942 | G8: 1000 | H8: 252 | I8: 6 | J8: 8.5 | K8: 1.0019443 | L8: 1.944268 | M8: 0 | N8: 0 | O8: 1001.9443
E9: 44943 | G9: 1000 | H9: 252 | I9: 7 | J9: 8.5 | K9: 1.0022687 | L9: 2.26868 | M9: 0 | N9: 0 | O9: 1002.2687
E10: 44944 | G10: 1000 | H10: 252 | I10: 8 | J10: 8.5 | K10: 1.0025932 | L10: 2.593197 | M10: 0 | N10: 0 | O10: 1002.5932
E11: 44945 | G11: 1000 | H11: 252 | I11: 9 | J11: 8.5 | K11: 1.0029178 | L11: 2.91782 | M11: 0 | N11: 0 | O11: 1002.9178
E12: 44946 | G12: 1000 | H12: 252 | I12: 10 | J12: 8.5 | K12: 1.0032425 | L12: 3.242547 | M12: 0 | N12: 0 | O12: 1003.2425
E13: 44949 | G13: 1000 | H13: 252 | I13: 11 | J13: 8.5 | K13: 1.0035674 | L13: 3.567379 | M13: 0 | N13: 0 | O13: 1003.5674
E14: 44950 | G14: 1000 | H14: 252 | I14: 12 | J14: 8.5 | K14: 1.0038923 | L14: 3.892317 | M14: 0 | N14: 0 | O14: 1003.8923
... E17: 44953 | G17: 1000 | H17: 252 | I17: 15 | J17: 8.5 | K17: 1.0048678 | L17: 4.867761 | M17: 0 | N17: 0 | O17: 1004.8678
E18: 44956 | F18: 0 | G18: 1000 | H18: 252 | I18: 16 | J18: 8.5 | K18: 1.0051931 | L18: 5.193119 | M18: 0 | N18: 0 | O18: 1005.1931
E19: 44957 | G19: 1000 | H19: 252 | I19: 17 | J19: 8.5 | K19: 1.0055186 | L19: 5.518583 | M19: 0 | N19: 0 | O19: 1005.5186
E20: 44958 | G20: 1000 | H20: 252 | I20: 18 | J20: 8.5 | K20: 1.0058442 | L20: 5.844153 | M20: 0 | N20: 0 | O20: 1005.8442
E21: 44959 | G21: 1000 | H21: 252 | I21: 19 | J21: 8.5 | K21: 1.0061698 | L21: 6.169827 | M21: 0 | N21: 0 | O21: 1006.1698
E22: 44960 | G22: 1000 | H22: 252 | I22: 20 | J22: 8.5 | K22: 1.0064956 | L22: 6.495608 | M22: 0 | N22: 0 | O22: 1006.4956
E23: 44963 | G23: 1000 | H23: 252 | I23: 21 | J23: 8.5 | K23: 1.0068215 | L23: 6.821493 | M23: 0 | N23: 0 | O23: 1006.8215
E24: 44964 | G24: 1000 | H24: 252 | I24: 22 | J24: 8.5 | K24: 1.0071475 | L24: 7.147485 | M24: 0 | N24: 0 | O24: 1007.1475
E25: 44965 | G25: 1000 | H25: 252 | I25: 23 | J25: 8.5 | K25: 1.0074736 | L25: 7.473581 | M25: 0 | N25: 0 | O25: 1007.4736
E26: 44966 | G26: 1000 | H26: 252 | I26: 24 | J26: 8.5 | K26: 1.0077998 | L26: 7.799784 | M26: 0 | N26: 0 | O26: 1007.7998
E27: 44967 | G27: 1000 | H27: 252 | I27: 25 | J27: 8.5 | K27: 1.0081261 | L27: 8.126092 | M27: 0 | N27: 0 | O27: 1008.1261
E28: 44970 | G28: 1000 | H28: 252 | I28: 26 | J28: 8.5 | K28: 1.0084525 | L28: 8.452505 | M28: 0 | N28: 0 | O28: 1008.4525
E29: 44971 | G29: 1000 | H29: 252 | I29: 27 | J29: 8.5 | K29: 1.008779 | L29: 8.779024 | M29: 0 | N29: 0 | O29: 1008.779
E30: 44972 | G30: 1000 | H30: 252 | I30: 28 | J30: 8.5 | K30: 1.0091056 | L30: 9.105649 | M30: 0 | N30: 0 | O30: 1009.1056
... E36: 44984 | G36: 1000 | H36: 252 | I36: 34 | J36: 8.5 | K36: 1.0110676 | L36: 11.067622 | M36: 0 | N36: 0 | O36: 1011.0676
E37: 44985 | F37: 0 | G37: 1000 | H37: 252 | I37: 35 | J37: 8.5 | K37: 1.011395 | L37: 11.394988 | M37: 0 | N37: 0 | O37: 1011.395
E38: 44986 | G38: 1000 | H38: 252 | I38: 36 | J38: 8.5 | K38: 1.0117225 | L38: 11.72246 | M38: 0 | N38: 0 | O38: 1011.7225
E39: 44987 | G39: 1000 | H39: 252 | I39: 37 | J39: 8.5 | K39: 1.01205 | L39: 12.050038 | M39: 0 | N39: 0 | O39: 1012.05
E40: 44988 | G40: 1000 | H40: 252 | I40: 38 | J40: 8.5 | K40: 1.0123777 | L40: 12.377722 | M40: 0 | N40: 0 | O40: 1012.3777
E41: 44991 | G41: 1000 | H41: 252 | I41: 39 | J41: 8.5 | K41: 1.0127055 | L41: 12.705512 | M41: 0 | N41: 0 | O41: 1012.7055
E42: 44992 | G42: 1000 | H42: 252 | I42: 40 | J42: 8.5 | K42: 1.0130334 | L42: 13.033408 | M42: 0 | N42: 0 | O42: 1013.0334
E43: 44993 | G43: 1000 | H43: 252 | I43: 41 | J43: 8.5 | K43: 1.0133614 | L43: 13.361411 | M43: 0 | N43: 0 | O43: 1013.3614
E44: 44994 | G44: 1000 | H44: 252 | I44: 42 | J44: 8.5 | K44: 1.0136895 | L44: 13.68952 | M44: 0 | N44: 0 | O44: 1013.6895
E45: 44995 | G45: 1000 | H45: 252 | I45: 43 | J45: 8.5 | K45: 1.0140177 | L45: 14.017734 | M45: 0 | N45: 0 | O45: 1014.0177
E46: 44998 | G46: 1000 | H46: 252 | I46: 44 | J46: 8.5 | K46: 1.0143461 | L46: 14.346056 | M46: 0 | N46: 0 | O46: 1014.3461
E47: 44999 | G47: 1000 | H47: 252 | I47: 45 | J47: 8.5 | K47: 1.0146745 | L47: 14.674483 | M47: 0 | N47: 0 | O47: 1014.6745
...

Sheet Fluxo
B2: Parcela | C2: Data | D2: Vencimento corrigido | E2: Pagamento de | F2: Incorporação de | G2: % Amortização Sobre
E3: Juros | F3: Juros | G3: Saldo Devedor
B4: 1 | C4: 44955 | D4: =WORKDAY(C4-1,1,Feriado!A:A) -> 44956 | E4: Não | F4: Não | G4: 0
B5: 2 | C5: 44985 | D5: =WORKDAY(C5-1,1,Feriado!A:A) -> 44985 | E5: Não | F5: Não | G5: 0
B6: 3 | C6: 45014 | D6: =WORKDAY(C6-1,1,Feriado!A:A) -> 45014 | E6: Não | F6: Não | G6: 0
B7: 4 | C7: 45045 | D7: =WORKDAY(C7-1,1,Feriado!A:A) -> 45048 | E7: Não | F7: Não | G7: 0
B8: 5 | C8: 45075 | D8: =WORKDAY(C8-1,1,Feriado!A:A) -> 45075 | E8: Não | F8: Não | G8: 0
B9: 6 | C9: 45106 | D9: =WORKDAY(C9-1,1,Feriado!A:A) -> 45106 | E9: Não | F9: Não | G9: 0
B10: 7 | C10: 45136 | D10: =WORKDAY(C10-1,1,Feriado!A:A) -> 45138 | E10: Não | F10: Não | G10: 0
B11: 8 | C11: 45167 | D11: =WORKDAY(C11-1,1,Feriado!A:A) -> 45167 | E11: Não | F11: Não | G11: 0
B12: 9 | C12: 45198 | D12: =WORKDAY(C12-1,1,Feriado!A:A) -> 45198 | E12: Não | F12: Não | G12: 0
B13: 10 | C13: 45228 | D13: =WORKDAY(C13-1,1,Feriado!A:A) -> 45229 | E13: Não | F13: Não | G13: 0
B14: 11 | C14: 45259 | D14: =WORKDAY(C14-1,1,Feriado!A:A) -> 45259 | E14: Não | F14: Não | G14: 0
B15: 12 | C15: 45289 | D15: =WORKDAY(C15-1,1,Feriado!A:A) -> 45289 | E15: Não | F15: Não | G15: 0
... B31: 28 | C31: 45776 | D31: =WORKDAY(C31-1,1,Feriado!A:A) -> 45776 | E31: Não | F31: Não | G31: 0
B32: 29 | C32: 45806 | D32: =WORKDAY(C32-1,1,Feriado!A:A) -> 45806 | E32: Não | F32: Sim | G32: 0 | H32: Incorporação
B33: 30 | C33: 45837 | D33: =WORKDAY(C33-1,1,Feriado!A:A) -> 45838 | E33: Sim | F33: Não | G33: 0 | H33: Aniversário
B34: 31 | C34: 45867 | D34: =WORKDAY(C34-1,1,Feriado!A:A) -> 45867 | E34: Sim | F34: Não | G34: 0 | H34: Aniversário
B35: 32 | C35: 45898 | D35: =WORKDAY(C35-1,1,Feriado!A:A) -> 45898 | E35: Sim | F35: Não | G35: 0 | H35: Aniversário
B36: 33 | C36: 45929 | D36: =WORKDAY(C36-1,1,Feriado!A:A) -> 45929 | E36: Sim | F36: Não | G36: 0 | H36: Aniversário
B37: 34 | C37: 45959 | D37: =WORKDAY(C37-1,1,Feriado!A:A) -> 45959 | E37: Sim | F37: Não | G37: 0 | H37: Aniversário
B38: =B37+1 -> 35 | C38: 45990 | D38: =WORKDAY(C38-1,1,Feriado!A:A) -> 45992 | E38: Sim | F38: Sim | G38: 0 | H38: Aniversário
B39: =B38+1 -> 36 | C39: 46021 | D39: =WORKDAY(C39-1,1,Feriado!A:A) -> 46021 | E39: Sim | F39: Sim | G39: 0 | H39: Aniversário
B40: =B39+1 -> 37 | C40: 46051 | D40: =WORKDAY(C40-1,1,Feriado!A:A) -> 46051 | E40: Sim | F40: Sim | G40: 0.042787317 | H40: Aniversário
B41: =B40+1 -> 38 | C41: 46083 | D41: =WORKDAY(C41-1,1,Feriado!A:A) -> 46083 | E41: Sim | F41: Sim | G41: 0.045808561 | H41: Aniversário
B42: =B41+1 -> 39 | C42: 46111 | D42: =WORKDAY(C42-1,1,Feriado!A:A) -> 46111 | E42: Sim | F42: Sim | G42: 0.048363513 | H42: Aniversário
B43: =B42+1 -> 40 | C43: 46141 | D43: =WORKDAY(C43-1,1,Feriado!A:A) -> 46141 | E43: Sim | F43: Sim | G43: 0.085010998 | H43: Aniversário
B44: =B43+1 -> 41 | C44: 46171 | D44: =WORKDAY(C44-1,1,Feriado!A:A) -> 46171 | E44: Sim | F44: Sim | G44: 0.093225875 | H44: Aniversário
B45: =B44+1 -> 42 | C45: 46202 | D45: =WORKDAY(C45-1,1,Feriado!A:A) -> 46202 | E45: Sim | F45: Sim | G45: 0.1556041 | H45: Aniversário
B46: =B45+1 -> 43 | C46: 46232 | D46: =WORKDAY(C46-1,1,Feriado!A:A) -> 46232 | E46: Sim | F46: Sim | G46: 0.18490019 | H46: Aniversário
B47: =B46+1 -> 44 | C47: 46265 | D47: =WORKDAY(C47-1,1,Feriado!A:A) -> 46265 | E47: Sim | F47: Sim | G47: 0.2283213 | H47: Aniversário
B48: =B47+1 -> 45 | C48: 46294 | D48: =WORKDAY(C48-1,1,Feriado!A:A) -> 46294 | E48: Sim | F48: Sim | G48: 0.29951556 | H48: Aniversário
B49: =B48+1 -> 46 | C49: 46324 | D49: =WORKDAY(C49-1,1,Feriado!A:A) -> 46324 | E49: Sim | F49: Sim | G49: 0.43038032 | H49: Aniversário
... B51: =B50+1 -> 48 | C51: 46385 | D51: =WORKDAY(C51-1,1,Feriado!A:A) -> 46385 | E51: Sim | F51: Sim | G51: 1 | H51: Aniversário

Sheet Feriado
A1: 36892 | B1: segunda-feira | C1: Confraternização Universal
A2: 36948 | B2: segunda-feira | C2: Carnaval
A3: 36949 | B3: terça-feira | C3: Carnaval
A4: 36994 | B4: sexta-feira | C4: Paixão de Cristo
A5: 37002 | B5: sábado | C5: Tiradentes
A6: 37012 | B6: terça-feira | C6: Dia do Trabalho
A7: 37056 | B7: quinta-feira | C7: Corpus Christi
A8: 37141 | B8: sexta-feira | C8: Independência do Brasil
A9: 37176 | B9: sexta-feira | C9: Nossa Sr.a Aparecida - Padroeira do Brasil
A10: 37197 | B10: sexta-feira | C10: Finados
A11: 37210 | B11: quinta-feira | C11: Proclamação da República
A12: 37250 | B12: terça-feira | C12: Natal
... A287: 45611 | B287: sexta-feira | C287: Proclamação da República
A288: 45616 | C288: Dia Nacional de Zumbi e da Consciência Negra
A289: 45651 | B289: quarta-feira | C289: Natal
A290: 45658 | B290: quarta-feira | C290: Confraternização Universal
A291: 45719 | B291: segunda-feira | C291: Carnaval
A292: 45720 | B292: terça-feira | C292: Carnaval
A293: 45765 | B293: sexta-feira | C293: Paixão de Cristo
A294: 45768 | B294: segunda-feira | C294: Tiradentes
A295: 45778 | B295: quinta-feira | C295: Dia do Trabalho
A296: 45827 | B296: quinta-feira | C296: Corpus Christi
A297: 45907 | B297: domingo | C297: Independência do Brasil
A298: 45942 | B298: domingo | C298: Nossa Sr.a Aparecida - Padroeira do Brasil
A299: 45963 | B299: domingo | C299: Finados
A300: 45976 | B300: sábado | C300: Proclamação da República
... A1264: 73044 | B1264: sexta-feira | C1264: Natal
