Workbook
Name _Feriados: [1]Feriados!$A$2:$A$831

Sheet Cálculo
E1: Data | G1: Saldo devedor | H1: DU | I1: DUP | J1: Taxa de Juros | K1: Fator Juros | L1: Juros | M1: Evento juros | N1: Evento amortização | O1: PU
E2: 44932 | G2: 1000 | O2: 1000
E3: 44935 | G3: 1000 | H3: 252 | I3: 1 | J3: 8.5 | K3: 1.0003238 | L3: 0.323783 | M3: 0 | N3: 0 | O3: 1000.3238
E4: 44936 | G4: 1000 | H4: 252 | I4: 2 | J4: 8.5 | K4: 1.0006477 | L4: 0.64766999 | M4: 0 | N4: 0 | O4: 1000.6477
E5: 44937 | G5: 1000 | H5: 252 | I5: 3 | J5: 8.5 | K5: 1.0009717 | L5: 0.97166199 | M5: 0 | N5: 0 | O5: 1000.9717
E6: 44938 | G6: 1000 | H6: 252 | I6: 4 | J6: 8.5 | K6: 1.0012958 | L6: 1.295759 | M6: 0 | N6: 0 | O6: 1001.2958
E7: 44939 | G7: 1000 | H7: 252 | I7: 5 | J7: 8.5 | K7: 1.00162 | L7: 1.619961 | M7: 0 | N7: 0 | O7: 1001.62
E8: 44942 | G8: 1000 | H8: 252 | I8: 6 | J8: 8.5 | K8: 1.0019443 | L8: 1.944268 | M8: 0 | N8: 0 | O8: 1001.9443
E9: 44943 | G9: 1000 | H9: 252 | I9: 7 | J9: 8.5 | K9: 1.0022687 | L9: 2.26868 | M9: 0 | N9: 0 | O9: 1002.2687
E10: 44944 | G10: 1000 | H10: 252 | I10: 8 | J10: 8.5 | K10: 1.0025932 | L10: 2.593197 | M10: 0 | N10: 0 | O10: 1002.5932
E11: 44945 | G11: 1000 | H11: 252 | I11: 9 | J11: 8.5 | K11: 1.0029178 | L11: 2.91782 | M11: 0 | N11: 0 | O11: 1002.9178
E12: 44946 | G12: 1000 | H12: 252 | I12: 10 | J12: 8.5 | K12: 1.0032425 | L12: 3.242547 | M12: 0 | N12: 0 | O12: 1003.2425
E13: 44949 | G13: 1000 | H13: 252 | I13: 11 | J13: 8.5 | K13: 1.0035674 | L13: 3.567379 | M13: 0 | N13: 0 | O13: 1003.5674
E14: 44950 | G14: 1000 | H14: 252 | I14: 12 | J14: 8.5 | K14: 1.0038923 | L14: 3.892317 | M14: 0 | N14: 0 | O14: 1003.8923
... E17: 44953 | G17: 1000 | H17: 252 | I17: 15 | J17: 8.5 | K17: 1.0048678 | L17: 4.867761 | M17: 0 | N17: 0 | O17: 1004.8678
E18: 44956 | F18: 0 | G18: 1000 | H18: 252 | I18: 16 | J18: 8.5 | K18: 1.0051931 | L18: 5.193119 | M18: 0 | N18: 0 | O18: 1005.1931
E19: 44957 | G19: 1000 | H19: 252 | I19: 17 | J19: 8.5 | K19: 1.0055186 | L19: 5.518583 | M19: 0 | N19: 0 | O19: 1005.5186
E20: 44958 | G20: 1000 | H20: 252 | I20: 18 | J20: 8.5 | K20: 1.0058442 | L20: 5.844153 | M20: 0 | N20: 0 | O20: 1005.8442
E21: 44959 | G21: 1000 | H21: 252 | I21: 19 | J21: 8.5 | K21: 1.0061698 | L21: 6.169827 | M21: 0 | N21: 0 | O21: 1006.1698
E22: 44960 | G22: 1000 | H22: 252 | I22: 20 | J22: 8.5 | K22: 1.0064956 | L22: 6.495608 | M22: 0 | N22: 0 | O22: 1006.4956
E23: 44963 | G23: 1000 | H23: 252 | I23: 21 | J23: 8.5 | K23: 1.0068215 | L23: 6.821493 | M23: 0 | N23: 0 | O23: 1006.8215
E24: 44964 | G24: 1000 | H24: 252 | I24: 22 | J24: 8.5 | K24: 1.0071475 | L24: 7.147485 | M24: 0 | N24: 0 | O24: 1007.1475
E25: 44965 | G25: 1000 | H25: 252 | I25: 23 | J25: 8.5 | K25: 1.0074736 | L25: 7.473581 | M25: 0 | N25: 0 | O25: 1007.4736
E26: 44966 | G26: 1000 | H26: 252 | I26: 24 | J26: 8.5 | K26: 1.0077998 | L26: 7.799784 | M26: 0 | N26: 0 | O26: 1007.7998
E27: 44967 | G27: 1000 | H27: 252 | I27: 25 | J27: 8.5 | K27: 1.0081261 | L27: 8.126092 | M27: 0 | N27: 0 | O27: 1008.1261
E28: 44970 | G28: 1000 | H28: 252 | I28: 26 | J28: 8.5 | K28: 1.0084525 | L28: 8.452505 | M28: 0 | N28: 0 | O28: 1008.4525
E29: 44971 | G29: 1000 | H29: 252 | I29: 27 | J29: 8.5 | K29: 1.008779 | L29: 8.779024 | M29: 0 | N29: 0 | O29: 1008.779
E30: 44972 | G30: 1000 | H30: 252 | I30: 28 | J30: 8.5 | K30: 1.0091056 | L30: 9.105649 | M30: 0 | N30: 0 | O30: 1009.1056
... E36: 44984 | G36: 1000 | H36: 252 | I36: 34 | J36: 8.5 | K36: 1.0110676 | L36: 11.067622 | M36: 0 | N36: 0 | O36: 1011.0676
E37: 44985 | F37: 0 | G37: 1000 | H37: 252 | I37: 35 | J37: 8.5 | K37: 1.011395 | L37: 11.394988 | M37: 0 | N37: 0 | O37: 1011.395
E38: 44986 | G38: 1000 | H38: 252 | I38: 36 | J38: 8.5 | K38: 1.0117225 | L38: 11.72246 | M38: 0 | N38: 0 | O38: 1011.7225
E39: 44987 | G39: 1000 | H39: 252 | I39: 37 | J39: 8.5 | K39: 1.01205 | L39: 12.050038 | M39: 0 | N39: 0 | O39: 1012.05
E40: 44988 | G40: 1000 | H40: 252 | I40: 38 | J40: 8.5 | K40: 1.0123777 | L40: 12.377722 | M40: 0 | N40: 0 | O40: 1012.3777
E41: 44991 | G41: 1000 | H41: 252 | I41: 39 | J41: 8.5 | K41: 1.0127055 | L41: 12.705512 | M41: 0 | N41: 0 | O41: 1012.7055
E42: 44992 | G42: 1000 | H42: 252 | I42: 40 | J42: 8.5 | K42: 1.0130334 | L42: 13.033408 | M42: 0 | N42: 0 | O42: 1013.0334
E43: 44993 | G43: 1000 | H43: 252 | I43: 41 | J43: 8.5 | K43: 1.0133614 | L43: 13.361411 | M43: 0 | N43: 0 | O43: 1013.3614
E44: 44994 | G44: 1000 | H44: 252 | I44: 42 | J44: 8.5 | K44: 1.0136895 | L44: 13.68952 | M44: 0 | N44: 0 | O44: 1013.6895
E45: 44995 | G45: 1000 | H45: 252 | I45: 43 | J45: 8.5 | K45: 1.0140177 | L45: 14.017734 | M45: 0 | N45: 0 | O45: 1014.0177
E46: 44998 | G46: 1000 | H46: 252 | I46: 44 | J46: 8.5 | K46: 1.0143461 | L46: 14.346056 | M46: 0 | N46: 0 | O46: 1014.3461
E47: 44999 | G47: 1000 | H47: 252 | I47: 45 | J47: 8.5 | K47: 1.0146745 | L47: 14.674483 | M47: 0 | N47: 0 | O47: 1014.6745
E48: 45000 | G48: 1000 | H48: 252 | I48: 46 | J48: 8.5 | K48: 1.015003 | L48: 15.003017 | M48: 0 | N48: 0 | O48: 1015.003
E49: 45001 | G49: 1000 | H49: 252 | I49: 47 | J49: 8.5 | K49: 1.0153317 | L49: 15.331657 | M49: 0 | N49: 0 | O49: 1015.3317
... E57: 45013 | G57: 1000 | H57: 252 | I57: 55 | J57: 8.5 | K57: 1.0179646 | L57: 17.964613 | M57: 0 | N57: 0 | O57: 1017.9646
E58: 45014 | F58: 0 | G58: 1000 | H58: 252 | I58: 56 | J58: 8.5 | K58: 1.0182942 | L58: 18.294212 | M58: 0 | N58: 0 | O58: 1018.2942
E59: 45015 | G59: 1000 | H59: 252 | I59: 57 | J59: 8.5 | K59: 1.0186239 | L59: 18.623918 | M59: 0 | N59: 0 | O59: 1018.6239
E60: 45016 | G60: 1000 | H60: 252 | I60: 58 | J60: 8.5 | K60: 1.0189537 | L60: 18.95373 | M60: 0 | N60: 0 | O60: 1018.9537
E61: 45019 | G61: 1000 | H61: 252 | I61: 59 | J61: 8.5 | K61: 1.0192836 | L61: 19.28365 | M61: 0 | N61: 0 | O61: 1019.2836
E62: 45020 | G62: 1000 | H62: 252 | I62: 60 | J62: 8.5 | K62: 1.0196137 | L62: 19.613676 | M62: 0 | N62: 0 | O62: 1019.6137
E63: 45021 | G63: 1000 | H63: 252 | I63: 61 | J63: 8.5 | K63: 1.0199438 | L63: 19.943809 | M63: 0 | N63: 0 | O63: 1019.9438
E64: 45022 | G64: 1000 | H64: 252 | I64: 62 | J64: 8.5 | K64: 1.020274 | L64: 20.274049 | M64: 0 | N64: 0 | O64: 1020.274
E65: 45026 | G65: 1000 | H65: 252 | I65: 63 | J65: 8.5 | K65: 1.0206044 | L65: 20.604396 | M65: 0 | N65: 0 | O65: 1020.6044
E66: 45027 | G66: 1000 | H66: 252 | I66: 64 | J66: 8.5 | K66: 1.0209348 | L66: 20.93485 | M66: 0 | N66: 0 | O66: 1020.9348
E67: 45028 | G67: 1000 | H67: 252 | I67: 65 | J67: 8.5 | K67: 1.0212654 | L67: 21.265411 | M67: 0 | N67: 0 | O67: 1021.2654
E68: 45029 | G68: 1000 | H68: 252 | I68: 66 | J68: 8.5 | K68: 1.0215961 | L68: 21.596078 | M68: 0 | N68: 0 | O68: 1021.5961
E69: 45030 | G69: 1000 | H69: 252 | I69: 67 | J69: 8.5 | K69: 1.0219269 | L69: 21.926853 | M69: 0 | N69: 0 | O69: 1021.9269
E70: 45033 | G70: 1000 | H70: 252 | I70: 68 | J70: 8.5 | K70: 1.0222577 | L70: 22.257735 | M70: 0 | N70: 0 | O70: 1022.2577
... E78: 45044 | G78: 1000 | H78: 252 | I78: 76 | J78: 8.5 | K78: 1.0249087 | L78: 24.908652 | M78: 0 | N78: 0 | O78: 1024.9087
E79: 45048 | F79: 0 | G79: 1000 | H79: 252 | I79: 77 | J79: 8.5 | K79: 1.0252405 | L79: 25.240499 | M79: 0 | N79: 0 | O79: 1025.2405
E80: 45049 | G80: 1000 | H80: 252 | I80: 78 | J80: 8.5 | K80: 1.0255725 | L80: 25.572454 | M80: 0 | N80: 0 | O80: 1025.5725
E81: 45050 | G81: 1000 | H81: 252 | I81: 79 | J81: 8.5 | K81: 1.0259045 | L81: 25.904516 | M81: 0 | N81: 0 | O81: 1025.9045
E82: 45051 | G82: 1000 | H82: 252 | I82: 80 | J82: 8.5 | K82: 1.0262367 | L82: 26.236686 | M82: 0 | N82: 0 | O82: 1026.2367
E83: 45054 | G83: 1000 | H83: 252 | I83: 81 | J83: 8.5 | K83: 1.026569 | L83: 26.568964 | M83: 0 | N83: 0 | O83: 1026.569
E84: 45055 | G84: 1000 | H84: 252 | I84: 82 | J84: 8.5 | K84: 1.0269013 | L84: 26.901349 | M84: 0 | N84: 0 | O84: 1026.9013
E85: 45056 | G85: 1000 | H85: 252 | I85: 83 | J85: 8.5 | K85: 1.0272338 | L85: 27.233842 | M85: 0 | N85: 0 | O85: 1027.2338
E86: 45057 | G86: 1000 | H86: 252 | I86: 84 | J86: 8.5 | K86: 1.0275664 | L86: 27.566442 | M86: 0 | N86: 0 | O86: 1027.5664
E87: 45058 | G87: 1000 | H87: 252 | I87: 85 | J87: 8.5 | K87: 1.0278992 | L87: 27.89915 | M87: 0 | N87: 0 | O87: 1027.8991
E88: 45061 | G88: 1000 | H88: 252 | I88: 86 | J88: 8.5 | K88: 1.028232 | L88: 28.231966 | M88: 0 | N88: 0 | O88: 1028.232
E89: 45062 | G89: 1000 | H89: 252 | I89: 87 | J89: 8.5 | K89: 1.0285649 | L89: 28.564889 | M89: 0 | N89: 0 | O89: 1028.5649
E90: 45063 | G90: 1000 | H90: 252 | I90: 88 | J90: 8.5 | K90: 1.0288979 | L90: 28.897921 | M90: 0 | N90: 0 | O90: 1028.8979
E91: 45064 | G91: 1000 | H91: 252 | I91: 89 | J91: 8.5 | K91: 1.0292311 | L91: 29.23106 | M91: 0 | N91: 0 | O91: 1029.2311
... E97: 45072 | G97: 1000 | H97: 252 | I97: 95 | J97: 8.5 | K97: 1.0312322 | L97: 31.232161 | M97: 0 | N97: 0 | O97: 1031.2322
E98: 45075 | F98: 0 | G98: 1000 | H98: 252 | I98: 96 | J98: 8.5 | K98: 1.0315661 | L98: 31.566056 | M98: 0 | N98: 0 | O98: 1031.5661
E99: 45076 | G99: 1000 | H99: 252 | I99: 97 | J99: 8.5 | K99: 1.0319001 | L99: 31.900059 | M99: 0 | N99: 0 | O99: 1031.9001
E100: 45077 | G100: 1000 | H100: 252 | I100: 98 | J100: 8.5 | K100: 1.0322342 | L100: 32.23417 | M100: 0 | N100: 0 | O100: 1032.2342
E101: 45078 | G101: 1000 | H101: 252 | I101: 99 | J101: 8.5 | K101: 1.0325684 | L101: 32.56839 | M101: 0 | N101: 0 | O101: 1032.5684
E102: 45079 | G102: 1000 | H102: 252 | I102: 100 | J102: 8.5 | K102: 1.0329027 | L102: 32.902717 | M102: 0 | N102: 0 | O102: 1032.9027
E103: 45082 | G103: 1000 | H103: 252 | I103: 101 | J103: 8.5 | K103: 1.0332372 | L103: 33.237153 | M103: 0 | N103: 0 | O103: 1033.2372
E104: 45083 | G104: 1000 | H104: 252 | I104: 102 | J104: 8.5 | K104: 1.0335717 | L104: 33.571697 | M104: 0 | N104: 0 | O104: 1033.5717
E105: 45084 | G105: 1000 | H105: 252 | I105: 103 | J105: 8.5 | K105: 1.0339064 | L105: 33.90635 | M105: 0 | N105: 0 | O105: 1033.9063
E106: 45086 | G106: 1000 | H106: 252 | I106: 104 | J106: 8.5 | K106: 1.0342411 | L106: 34.24111 | M106: 0 | N106: 0 | O106: 1034.2411
E107: 45089 | G107: 1000 | H107: 252 | I107: 105 | J107: 8.5 | K107: 1.034576 | L107: 34.57598 | M107: 0 | N107: 0 | O107: 1034.576
E108: 45090 | G108: 1000 | H108: 252 | I108: 106 | J108: 8.5 | K108: 1.034911 | L108: 34.910957 | M108: 0 | N108: 0 | O108: 1034.911
E109: 45091 | G109: 1000 | H109: 252 | I109: 107 | J109: 8.5 | K109: 1.035246 | L109: 35.246043 | M109: 0 | N109: 0 | O109: 1035.246
E110: 45092 | G110: 1000 | H110: 252 | I110: 108 | J110: 8.5 | K110: 1.0355812 | L110: 35.581238 | M110: 0 | N110: 0 | O110: 1035.5812
... E119: 45105 | G119: 1000 | H119: 252 | I119: 117 | J119: 8.5 | K119: 1.0386029 | L119: 38.602877 | M119: 0 | N119: 0 | O119: 1038.6029
E120: 45106 | F120: 0 | G120: 1000 | H120: 252 | I120: 118 | J120: 8.5 | K120: 1.0389392 | L120: 38.939158 | M120: 0 | N120: 0 | O120: 1038.9392
E121: 45107 | G121: 1000 | H121: 252 | I121: 119 | J121: 8.5 | K121: 1.0392755 | L121: 39.275549 | M121: 0 | N121: 0 | O121: 1039.2755
E122: 45110 | G122: 1000 | H122: 252 | I122: 120 | J122: 8.5 | K122: 1.039612 | L122: 39.612048 | M122: 0 | N122: 0 | O122: 1039.612
E123: 45111 | G123: 1000 | H123: 252 | I123: 121 | J123: 8.5 | K123: 1.0399487 | L123: 39.948656 | M123: 0 | N123: 0 | O123: 1039.9487
E124: 45112 | G124: 1000 | H124: 252 | I124: 122 | J124: 8.5 | K124: 1.0402854 | L124: 40.285373 | M124: 0 | N124: 0 | O124: 1040.2854
E125: 45113 | G125: 1000 | H125: 252 | I125: 123 | J125: 8.5 | K125: 1.0406222 | L125: 40.6222 | M125: 0 | N125: 0 | O125: 1040.6222
E126: 45114 | G126: 1000 | H126: 252 | I126: 124 | J126: 8.5 | K126: 1.0409591 | L126: 40.959135 | M126: 0 | N126: 0 | O126: 1040.9591
E127: 45117 | G127: 1000 | H127: 252 | I127: 125 | J127: 8.5 | K127: 1.0412962 | L127: 41.296179 | M127: 0 | N127: 0 | O127: 1041.2962
E128: 45118 | G128: 1000 | H128: 252 | I128: 126 | J128: 8.5 | K128: 1.0416333 | L128: 41.633333 | M128: 0 | N128: 0 | O128: 1041.6333
E129: 45119 | G129: 1000 | H129: 252 | I129: 127 | J129: 8.5 | K129: 1.0419706 | L129: 41.970595 | M129: 0 | N129: 0 | O129: 1041.9706
E130: 45120 | G130: 1000 | H130: 252 | I130: 128 | J130: 8.5 | K130: 1.042308 | L130: 42.307967 | M130: 0 | N130: 0 | O130: 1042.308
E131: 45121 | G131: 1000 | H131: 252 | I131: 129 | J131: 8.5 | K131: 1.0426454 | L131: 42.645448 | M131: 0 | N131: 0 | O131: 1042.6454
E132: 45124 | G132: 1000 | H132: 252 | I132: 130 | J132: 8.5 | K132: 1.042983 | L132: 42.983039 | M132: 0 | N132: 0 | O132: 1042.983
... E141: 45135 | G141: 1000 | H141: 252 | I141: 139 | J141: 8.5 | K141: 1.0460263 | L141: 46.026275 | M141: 0 | N141: 0 | O141: 1046.0263
E142: 45138 | F142: 0 | G142: 1000 | H142: 252 | I142: 140 | J142: 8.5 | K142: 1.046365 | L142: 46.36496 | M142: 0 | N142: 0 | O142: 1046.365
...

Sheet Fluxo
B2: Parcela | C2: Data | D2: Vencimento corrigido | E2: Pagamento de | F2: Incorporação de | G2: % Amortização Sobre
E3: Juros | F3: Juros | G3: Saldo Devedor
B4: 1 | C4: 44955 | D4: =WORKDAY(C4-1,1,Feriado!A:A) -> 44956 | E4: Não | F4: Não | G4: 0
B5: 2 | C5: 44985 | D5: =WORKDAY(C5-1,1,Feriado!A:A) -> 44985 | E5: Não | F5: Não | G5: 0
B6: 3 | C6: 45014 | D6: =WORKDAY(C6-1,1,Feriado!A:A) -> 45014 | E6: Não | F6: Não | G6: 0
B7: 4 | C7: 45045 | D7: =WORKDAY(C7-1,1,Feriado!A:A) -> 45048 | E7: Não | F7: Não | G7: 0
B8: 5 | C8: 45075 | D8: =WORKDAY(C8-1,1,Feriado!A:A) -> 45075 | E8: Não | F8: Não | G8: 0
B9: 6 | C9: 45106 | D9: =WORKDAY(C9-1,1,Feriado!A:A) -> 45106 | E9: Não | F9: Não | G9: 0
B10: 7 | C10: 45136 | D10: =WORKDAY(C10-1,1,Feriado!A:A) -> 45138 | E10: Não | F10: Não | G10: 0
B11: 8 | C11: 45167 | D11: =WORKDAY(C11-1,1,Feriado!A:A) -> 45167 | E11: Não | F11: Não | G11: 0
B12: 9 | C12: 45198 | D12: =WORKDAY(C12-1,1,Feriado!A:A) -> 45198 | E12: Não | F12: Não | G12: 0
B13: 10 | C13: 45228 | D13: =WORKDAY(C13-1,1,Feriado!A:A) -> 45229 | E13: Não | F13: Não | G13: 0
B14: 11 | C14: 45259 | D14: =WORKDAY(C14-1,1,Feriado!A:A) -> 45259 | E14: Não | F14: Não | G14: 0
B15: 12 | C15: 45289 | D15: =WORKDAY(C15-1,1,Feriado!A:A) -> 45289 | E15: Não | F15: Não | G15: 0
... B31: 28 | C31: 45776 | D31: =WORKDAY(C31-1,1,Feriado!A:A) -> 45776 | E31: Não | F31: Não | G31: 0
B32: 29 | C32: 45806 | D32: =WORKDAY(C32-1,1,Feriado!A:A) -> 45806 | E32: Não | F32: Sim | G32: 0 | H32: Incorporação
B33: 30 | C33: 45837 | D33: =WORKDAY(C33-1,1,Feriado!A:A) -> 45838 | E33: Sim | F33: Não | G33: 0 | H33: Aniversário
B34: 31 | C34: 45867 | D34: =WORKDAY(C34-1,1,Feriado!A:A) -> 45867 | E34: Sim | F34: Não | G34: 0 | H34: Aniversário
B35: 32 | C35: 45898 | D35: =WORKDAY(C35-1,1,Feriado!A:A) -> 45898 | E35: Sim | F35: Não | G35: 0 | H35: Aniversário
B36: 33 | C36: 45929 | D36: =WORKDAY(C36-1,1,Feriado!A:A) -> 45929 | E36: Sim | F36: Não | G36: 0 | H36: Aniversário
B37: 34 | C37: 45959 | D37: =WORKDAY(C37-1,1,Feriado!A:A) -> 45959 | E37: Sim | F37: Não | G37: 0 | H37: Aniversário
B38: =B37+1 -> 35 | C38: 45990 | D38: =WORKDAY(C38-1,1,Feriado!A:A) -> 45992 | E38: Sim | F38: Sim | G38: 0 | H38: Aniversário
B39: =B38+1 -> 36 | C39: 46021 | D39: =WORKDAY(C39-1,1,Feriado!A:A) -> 46021 | E39: Sim | F39: Sim | G39: 0 | H39: Aniversário
B40: =B39+1 -> 37 | C40: 46051 | D40: =WORKDAY(C40-1,1,Feriado!A:A) -> 46051 | E40: Sim | F40: Sim | G40: 0.042787317 | H40: Aniversário
B41: =B40+1 -> 38 | C41: 46083 | D41: =WORKDAY(C41-1,1,Feriado!A:A) -> 46083 | E41: Sim | F41: Sim | G41: 0.045808561 | H41: Aniversário
B42: =B41+1 -> 39 | C42: 46111 | D42: =WORKDAY(C42-1,1,Feriado!A:A) -> 46111 | E42: Sim | F42: Sim | G42: 0.048363513 | H42: Aniversário
B43: =B42+1 -> 40 | C43: 46141 | D43: =WORKDAY(C43-1,1,Feriado!A:A) -> 46141 | E43: Sim | F43: Sim | G43: 0.085010998 | H43: Aniversário
B44: =B43+1 -> 41 | C44: 46171 | D44: =WORKDAY(C44-1,1,Feriado!A:A) -> 46171 | E44: Sim | F44: Sim | G44: 0.093225875 | H44: Aniversário
B45: =B44+1 -> 42 | C45: 46202 | D45: =WORKDAY(C45-1,1,Feriado!A:A) -> 46202 | E45: Sim | F45: Sim | G45: 0.1556041 | H45: Aniversário
B46: =B45+1 -> 43 | C46: 46232 | D46: =WORKDAY(C46-1,1,Feriado!A:A) -> 46232 | E46: Sim | F46: Sim | G46: 0.18490019 | H46: Aniversário
B47: =B46+1 -> 44 | C47: 46265 | D47: =WORKDAY(C47-1,1,Feriado!A:A) -> 46265 | E47: Sim | F47: Sim | G47: 0.2283213 | H47: Aniversário
B48: =B47+1 -> 45 | C48: 46294 | D48: =WORKDAY(C48-1,1,Feriado!A:A) -> 46294 | E48: Sim | F48: Sim | G48: 0.29951556 | H48: Aniversário
B49: =B48+1 -> 46 | C49: 46324 | D49: =WORKDAY(C49-1,1,Feriado!A:A) -> 46324 | E49: Sim | F49: Sim | G49: 0.43038032 | H49: Aniversário
... B51: =B50+1 -> 48 | C51: 46385 | D51: =WORKDAY(C51-1,1,Feriado!A:A) -> 46385 | E51: Sim | F51: Sim | G51: 1 | H51: Aniversário

Sheet Feriado
A1: 36892 | B1: segunda-feira | C1: Confraternização Universal
A2: 36948 | B2: segunda-feira | C2: Carnaval
A3: 36949 | B3: terça-feira | C3: Carnaval
A4: 36994 | B4: sexta-feira | C4: Paixão de Cristo
A5: 37002 | B5: sábado | C5: Tiradentes
A6: 37012 | B6: terça-feira | C6: Dia do Trabalho
A7: 37056 | B7: quinta-feira | C7: Corpus Christi
A8: 37141 | B8: sexta-feira | C8: Independência do Brasil
A9: 37176 | B9: sexta-feira | C9: Nossa Sr.a Aparecida - Padroeira do Brasil
A10: 37197 | B10: sexta-feira | C10: Finados
A11: 37210 | B11: quinta-feira | C11: Proclamação da República
A12: 37250 | B12: terça-feira | C12: Natal
... A287: 45611 | B287: sexta-feira | C287: Proclamação da República
A288: 45616 | C288: Dia Nacional de Zumbi e da Consciência Negra
A289: 45651 | B289: quarta-feira | C289: Natal
A290: 45658 | B290: quarta-feira | C290: Confraternização Universal
A291: 45719 | B291: segunda-feira | C291: Carnaval
A292: 45720 | B292: terça-feira | C292: Carnaval
A293: 45765 | B293: sexta-feira | C293: Paixão de Cristo
A294: 45768 | B294: segunda-feira | C294: Tiradentes
A295: 45778 | B295: quinta-feira | C295: Dia do Trabalho
A296: 45827 | B296: quinta-feira | C296: Corpus Christi
A297: 45907 | B297: domingo | C297: Independência do Brasil
A298: 45942 | B298: domingo | C298: Nossa Sr.a Aparecida - Padroeira do Brasil
A299: 45963 | B299: domingo | C299: Finados
A300: 45976 | B300: sábado | C300: Proclamação da República
... A1264: 73044 | B1264: sexta-feira | C1264: Natal
