Workbook
Name _Feriados: [1]Feriados!$A$2:$A$831

Sheet Cálculo
B1: Data | D1: Saldo devedor | E1: DU | F1: DUP | G1: Taxa de Juros | H1: Fator Juros | I1: Juros | J1: Evento juros | K1: Evento amortização | L1: PU
B2: 44932 | D2: 1000 | L2: 1000
B3: 44935 | D3: 1000 | E3: 252 | F3: 1 | G3: 0.5 | H3: 1.0000198 | I3: 0.019792 | J3: 0 | K3: 0 | L3: 1000.0198
B4: 44936 | D4: 1000 | E4: 252 | F4: 2 | G4: 0.5 | H4: 1.0000396 | I4: 0.039584 | J4: 0 | K4: 0 | L4: 1000.0396
B5: 44937 | D5: 1000 | E5: 252 | F5: 3 | G5: 0.5 | H5: 1.0000594 | I5: 0.05937699 | J5: 0 | K5: 0 | L5: 1000.0594
B6: 44938 | D6: 1000 | E6: 252 | F6: 4 | G6: 0.5 | H6: 1.0000792 | I6: 0.07917 | J6: 0 | K6: 0 | L6: 1000.0792
B7: 44939 | D7: 1000 | E7: 252 | F7: 5 | G7: 0.5 | H7: 1.000099 | I7: 0.09896399 | J7: 0 | K7: 0 | L7: 1000.099
B8: 44942 | D8: 1000 | E8: 252 | F8: 6 | G8: 0.5 | H8: 1.0001188 | I8: 0.11875799 | J8: 0 | K8: 0 | L8: 1000.1188
B9: 44943 | D9: 1000 | E9: 252 | F9: 7 | G9: 0.5 | H9: 1.0001386 | I9: 0.13855199 | J9: 0 | K9: 0 | L9: 1000.1386
B10: 44944 | D10: 1000 | E10: 252 | F10: 8 | G10: 0.5 | H10: 1.0001583 | I10: 0.15834699 | J10: 0 | K10: 0 | L10: 1000.1583
B11: 44945 | D11: 1000 | E11: 252 | F11: 9 | G11: 0.5 | H11: 1.0001781 | I11: 0.17814199 | J11: 0 | K11: 0 | L11: 1000.1781
B12: 44946 | D12: 1000 | E12: 252 | F12: 10 | G12: 0.5 | H12: 1.0001979 | I12: 0.19793799 | J12: 0 | K12: 0 | L12: 1000.1979
B13: 44949 | D13: 1000 | E13: 252 | F13: 11 | G13: 0.5 | H13: 1.0002177 | I13: 0.217734 | J13: 0 | K13: 0 | L13: 1000.2177
B14: 44950 | D14: 1000 | E14: 252 | F14: 12 | G14: 0.5 | H14: 1.0002375 | I14: 0.23752999 | J14: 0 | K14: 0 | L14: 1000.2375
... B686: 45926 | D686: 1000 | E686: 252 | F686: 684 | G686: 0.5 | H686: 1.0136297 | I686: 13.629661 | J686: 0 | K686: 0 | L686: 1013.6297
B687: 45929 | C687: Incorporação | D687: 1000 | E687: 252 | F687: 685 | G687: 0.5 | H687: 1.0136497 | I687: 13.649723 | J687: 0 | K687: 0 | L687: 1013.6497
B688: 45930 | D688: 1013.6497 | E688: 252 | F688: 1 | G688: 0.5 | H688: 1.0000198 | I688: 0.02006215 | J688: 0 | K688: 0 | L688: 1013.6698
B689: 45931 | D689: 1013.6497 | E689: 252 | F689: 2 | G689: 0.5 | H689: 1.0000396 | I689: 0.04012431 | J689: 0 | K689: 0 | L689: 1013.6898
B690: 45932 | D690: 1013.6497 | E690: 252 | F690: 3 | G690: 0.5 | H690: 1.0000594 | I690: 0.06018747 | J690: 0 | K690: 0 | L690: 1013.7099
B691: 45933 | D691: 1013.6497 | E691: 252 | F691: 4 | G691: 0.5 | H691: 1.0000792 | I691: 0.08025064 | J691: 0 | K691: 0 | L691: 1013.73
B692: 45936 | D692: 1013.6497 | E692: 252 | F692: 5 | G692: 0.5 | H692: 1.000099 | I692: 0.10031483 | J692: 0 | K692: 0 | L692: 1013.75
B693: 45937 | D693: 1013.6497 | E693: 252 | F693: 6 | G693: 0.5 | H693: 1.0001188 | I693: 0.12037901 | J693: 0 | K693: 0 | L693: 1013.7701
B694: 45938 | D694: 1013.6497 | E694: 252 | F694: 7 | G694: 0.5 | H694: 1.0001386 | I694: 0.14044319 | J694: 0 | K694: 0 | L694: 1013.7902
B695: 45939 | D695: 1013.6497 | E695: 252 | F695: 8 | G695: 0.5 | H695: 1.0001583 | I695: 0.16050839 | J695: 0 | K695: 0 | L695: 1013.8102
B696: 45940 | D696: 1013.6497 | E696: 252 | F696: 9 | G696: 0.5 | H696: 1.0001781 | I696: 0.18057358 | J696: 0 | K696: 0 | L696: 1013.8303
B697: 45943 | D697: 1013.6497 | E697: 252 | F697: 10 | G697: 0.5 | H697: 1.0001979 | I697: 0.20063979 | J697: 0 | K697: 0 | L697: 1013.8504
B698: 45944 | D698: 1013.6497 | E698: 252 | F698: 11 | G698: 0.5 | H698: 1.0002177 | I698: 0.220706 | J698: 0 | K698: 0 | L698: 1013.8704
B699: 45945 | D699: 1013.6497 | E699: 252 | F699: 12 | G699: 0.5 | H699: 1.0002375 | I699: 0.24077221 | J699: 0 | K699: 0 | L699: 1013.8905
... B708: 45958 | D708: 1013.6497 | E708: 252 | F708: 21 | G708: 0.5 | H708: 1.0004157 | I708: 0.42138939 | J708: 0 | K708: 0 | L708: 1014.0711
B709: 45959 | C709: Aniversário | D709: 1013.6497 | E709: 252 | F709: 22 | G709: 0.5 | H709: 1.0004355 | I709: 0.44145965 | J709: 0.44145965 | K709: 0 | L709: 1013.6497
B710: 45960 | D710: 1013.6497 | E710: 252 | F710: 1 | G710: 0.5 | H710: 1.0000198 | I710: 0.02006215 | J710: 0 | K710: 0 | L710: 1013.6698
B711: 45961 | D711: 1013.6497 | E711: 252 | F711: 2 | G711: 0.5 | H711: 1.0000396 | I711: 0.04012431 | J711: 0 | K711: 0 | L711: 1013.6898
B712: 45964 | D712: 1013.6497 | E712: 252 | F712: 3 | G712: 0.5 | H712: 1.0000594 | I712: 0.06018747 | J712: 0 | K712: 0 | L712: 1013.7099
B713: 45965 | D713: 1013.6497 | E713: 252 | F713: 4 | G713: 0.5 | H713: 1.0000792 | I713: 0.08025064 | J713: 0 | K713: 0 | L713: 1013.73
B714: 45966 | D714: 1013.6497 | E714: 252 | F714: 5 | G714: 0.5 | H714: 1.000099 | I714: 0.10031483 | J714: 0 | K714: 0 | L714: 1013.75
B715: 45967 | D715: 1013.6497 | E715: 252 | F715: 6 | G715: 0.5 | H715: 1.0001188 | I715: 0.12037901 | J715: 0 | K715: 0 | L715: 1013.7701
B716: 45968 | D716: 1013.6497 | E716: 252 | F716: 7 | G716: 0.5 | H716: 1.0001386 | I716: 0.14044319 | J716: 0 | K716: 0 | L716: 1013.7902
B717: 45971 | D717: 1013.6497 | E717: 252 | F717: 8 | G717: 0.5 | H717: 1.0001583 | I717: 0.16050839 | J717: 0 | K717: 0 | L717: 1013.8102
B718: 45972 | D718: 1013.6497 | E718: 252 | F718: 9 | G718: 0.5 | H718: 1.0001781 | I718: 0.18057358 | J718: 0 | K718: 0 | L718: 1013.8303
B719: 45973 | D719: 1013.6497 | E719: 252 | F719: 10 | G719: 0.5 | H719: 1.0001979 | I719: 0.20063979 | J719: 0 | K719: 0 | L719: 1013.8504
...

Sheet Feriado
A1: 36892 | B1: segunda-feira | C1: Confraternização Universal
A2: 36948 | B2: segunda-feira | C2: Carnaval
A3: 36949 | B3: terça-feira | C3: Carnaval
A4: 36994 | B4: sexta-feira | C4: Paixão de Cristo
A5: 37002 | B5: sábado | C5: Tiradentes
A6: 37012 | B6: terça-feira | C6: Dia do Trabalho
A7: 37056 | B7: quinta-feira | C7: Corpus Christi
A8: 37141 | B8: sexta-feira | C8: Independência do Brasil
A9: 37176 | B9: sexta-feira | C9: Nossa Sr.a Aparecida - Padroeira do Brasil
A10: 37197 | B10: sexta-feira | C10: Finados
A11: 37210 | B11: quinta-feira | C11: Proclamação da República
A12: 37250 | B12: terça-feira | C12: Natal
... A287: 45611 | B287: sexta-feira | C287: Proclamação da República
B288: quarta-feira | C288: Dia Nacional de Zumbi e da Consciência Negra
A289: 45651 | B289: quarta-feira | C289: Natal
A290: 45658 | B290: quarta-feira | C290: Confraternização Universal
A291: 45719 | B291: segunda-feira | C291: Carnaval
A292: 45720 | B292: terça-feira | C292: Carnaval
A293: 45765 | B293: sexta-feira | C293: Paixão de Cristo
A294: 45768 | B294: segunda-feira | C294: Tiradentes
A295: 45778 | B295: quinta-feira | C295: Dia do Trabalho
A296: 45827 | B296: quinta-feira | C296: Corpus Christi
A297: 45907 | B297: domingo | C297: Independência do Brasil
A298: 45942 | B298: domingo | C298: Nossa Sr.a Aparecida - Padroeira do Brasil
A299: 45963 | B299: domingo | C299: Finados
A300: 45976 | B300: sábado | C300: Proclamação da República
... A1264: 73044 | B1264: sexta-feira | C1264: Natal

Sheet Fluxo
B2: Parcela | C2: Data | D2: Vencimento corrigido | E2: Pagamento de | F2: Incorporação de | G2: % Amortização Sobre
E3: Juros | F3: Juros | G3: Saldo Devedor
B4: 1 | C4: 44955 | D4: =WORKDAY(C4-1,1,Feriado!A:A) -> 44956 | E4: Não | F4: Não | G4: 0
B5: 2 | C5: 44985 | D5: =WORKDAY(C5-1,1,Feriado!A:A) -> 44985 | E5: Não | F5: Não | G5: 0
B6: 3 | C6: 45014 | D6: =WORKDAY(C6-1,1,Feriado!A:A) -> 45014 | E6: Não | F6: Não | G6: 0
B7: 4 | C7: 45045 | D7: =WORKDAY(C7-1,1,Feriado!A:A) -> 45048 | E7: Não | F7: Não | G7: 0
B8: 5 | C8: 45075 | D8: =WORKDAY(C8-1,1,Feriado!A:A) -> 45075 | E8: Não | F8: Não | G8: 0
B9: 6 | C9: 45106 | D9: =WORKDAY(C9-1,1,Feriado!A:A) -> 45106 | E9: Não | F9: Não | G9: 0
B10: 7 | C10: 45136 | D10: =WORKDAY(C10-1,1,Feriado!A:A) -> 45138 | E10: Não | F10: Não | G10: 0
B11: 8 | C11: 45167 | D11: =WORKDAY(C11-1,1,Feriado!A:A) -> 45167 | E11: Não | F11: Não | G11: 0
B12: 9 | C12: 45198 | D12: =WORKDAY(C12-1,1,Feriado!A:A) -> 45198 | E12: Não | F12: Não | G12: 0
B13: 10 | C13: 45228 | D13: =WORKDAY(C13-1,1,Feriado!A:A) -> 45229 | E13: Não | F13: Não | G13: 0
B14: 11 | C14: 45259 | D14: =WORKDAY(C14-1,1,Feriado!A:A) -> 45259 | E14: Não | F14: Não | G14: 0
B15: 12 | C15: 45289 | D15: =WORKDAY(C15-1,1,Feriado!A:A) -> 45289 | E15: Não | F15: Não | G15: 0
... B35: 32 | C35: 45898 | D35: =WORKDAY(C35-1,1,Feriado!A:A) -> 45898 | E35: Não | F35: Não | G35: 0
B36: 33 | C36: 45929 | D36: =WORKDAY(C36-1,1,Feriado!A:A) -> 45929 | E36: Não | F36: Sim | G36: 0 | H36: Incorporação
B37: 34 | C37: 45959 | D37: =WORKDAY(C37-1,1,Feriado!A:A) -> 45959 | E37: Sim | F37: Não | G37: 0 | H37: Aniversário
B38: 35 | C38: 45990 | D38: =WORKDAY(C38-1,1,Feriado!A:A) -> 45992 | E38: Sim | F38: Não | G38: 0 | H38: Aniversário
B39: 36 | C39: 46020 | D39: 46021 | E39: Sim | F39: Não | G39: 0 | H39: Aniversário
B40: 37 | C40: 46051 | D40: =WORKDAY(C40-1,1,Feriado!A:A) -> 46051 | E40: Sim | F40: Não | G40: 0 | H40: Aniversário
B41: 38 | C41: 46083 | D41: =WORKDAY(C41-1,1,Feriado!A:A) -> 46083 | E41: Sim | F41: Não | G41: 0 | H41: Aniversário
B42: 39 | C42: 46111 | D42: =WORKDAY(C42-1,1,Feriado!A:A) -> 46111 | E42: Sim | F42: Não | G42: 0 | H42: Aniversário
B43: 40 | C43: 46141 | D43: =WORKDAY(C43-1,1,Feriado!A:A) -> 46141 | E43: Sim | F43: Não | G43: 0 | H43: Aniversário
B44: 41 | C44: 46171 | D44: =WORKDAY(C44-1,1,Feriado!A:A) -> 46171 | E44: Sim | F44: Não | G44: 0 | H44: Aniversário
B45: 42 | C45: 46202 | D45: =WORKDAY(C45-1,1,Feriado!A:A) -> 46202 | E45: Sim | F45: Não | G45: 0 | H45: Aniversário
B46: 43 | C46: 46232 | D46: =WORKDAY(C46-1,1,Feriado!A:A) -> 46232 | E46: Sim | F46: Não | G46: 0 | H46: Aniversário
B47: 44 | C47: 46265 | D47: =WORKDAY(C47-1,1,Feriado!A:A) -> 46265 | E47: Sim | F47: Não | G47: 0 | H47: Aniversário
B48: 45 | C48: 46294 | D48: =WORKDAY(C48-1,1,Feriado!A:A) -> 46294 | E48: Sim | F48: Não | G48: 0 | H48: Aniversário
B49: 46 | C49: 46324 | D49: =WORKDAY(C49-1,1,Feriado!A:A) -> 46324 | E49: Sim | F49: Não | G49: 0 | H49: Aniversário
B50: 47 | C50: 46356 | D50: =WORKDAY(C50-1,1,Feriado!A:A) -> 46356 | E50: Sim | F50: Não | G50: 0 | H50: Aniversário
B51: 48 | C51: 46385 | D51: =WORKDAY(C51-1,1,Feriado!A:A) -> 46385 | E51: Sim | F51: Sim | G51: 1 | H51: Aniversário
